BEGIN:VCALENDAR
VERSION:2.0
PRODID:-//Ector County Library - ECPv6.15.17//NONSGML v1.0//EN
CALSCALE:GREGORIAN
METHOD:PUBLISH
X-ORIGINAL-URL:https://ector.lib.tx.us
X-WR-CALDESC:Events for Ector County Library
REFRESH-INTERVAL;VALUE=DURATION:PT1H
X-Robots-Tag:noindex
X-PUBLISHED-TTL:PT1H
BEGIN:VTIMEZONE
TZID:America/Chicago
BEGIN:DAYLIGHT
TZOFFSETFROM:-0600
TZOFFSETTO:-0500
TZNAME:CDT
DTSTART:20250309T080000
END:DAYLIGHT
BEGIN:STANDARD
TZOFFSETFROM:-0500
TZOFFSETTO:-0600
TZNAME:CST
DTSTART:20251102T070000
END:STANDARD
BEGIN:DAYLIGHT
TZOFFSETFROM:-0600
TZOFFSETTO:-0500
TZNAME:CDT
DTSTART:20260308T080000
END:DAYLIGHT
BEGIN:STANDARD
TZOFFSETFROM:-0500
TZOFFSETTO:-0600
TZNAME:CST
DTSTART:20261101T070000
END:STANDARD
BEGIN:DAYLIGHT
TZOFFSETFROM:-0600
TZOFFSETTO:-0500
TZNAME:CDT
DTSTART:20270314T080000
END:DAYLIGHT
BEGIN:STANDARD
TZOFFSETFROM:-0500
TZOFFSETTO:-0600
TZNAME:CST
DTSTART:20271107T070000
END:STANDARD
END:VTIMEZONE
BEGIN:VEVENT
DTSTART;TZID=America/Chicago:20260421T163000
DTEND;TZID=America/Chicago:20260421T180000
DTSTAMP:20260420T081133
CREATED:20260320T172549Z
LAST-MODIFIED:20260331T163825Z
UID:8165-1776789000-1776794400@ector.lib.tx.us
SUMMARY:Family Craft Night: Bubble Wrap Flowers
DESCRIPTION:Do you like playing with bubble wrap? So do we\, but instead of popping the bubbles\, we’re going to use them to make flowers. \n¿Te gusta jugar con el plástico de burbujas? A nosotros también\, pero en lugar de reventar las burbujas\, vamos a usarlas para hacer flores. \n \n 
URL:https://ector.lib.tx.us/event/family-craft-night-bubble-wrap-flowers/
LOCATION:Basement Activity Room
CATEGORIES:Children,Crafts,Family,Tween
END:VEVENT
BEGIN:VEVENT
DTSTART;TZID=America/Chicago:20260430T160000
DTEND;TZID=America/Chicago:20260430T170000
DTSTAMP:20260420T081133
CREATED:20260320T173143Z
LAST-MODIFIED:20260331T153548Z
UID:8171-1777564800-1777568400@ector.lib.tx.us
SUMMARY:Read to Felix
DESCRIPTION:Settle on the rug with a good book and Read to Felix. Give him some pats and some ear scritches so he knows what a good boy he is. \nAcomódate en la alfombra con un buen libro y léele a Felix. Dale unas palmaditas y ráscale las orejas para que sepa lo buen chico que es.
URL:https://ector.lib.tx.us/event/read-to-felix-12/
LOCATION:Children’s Department
CATEGORIES:Children,Family,Tween
END:VEVENT
END:VCALENDAR