BEGIN:VCALENDAR
VERSION:2.0
PRODID:-//Ector County Library - ECPv6.15.17//NONSGML v1.0//EN
CALSCALE:GREGORIAN
METHOD:PUBLISH
X-WR-CALNAME:Ector County Library
X-ORIGINAL-URL:https://ector.lib.tx.us
X-WR-CALDESC:Events for Ector County Library
REFRESH-INTERVAL;VALUE=DURATION:PT1H
X-Robots-Tag:noindex
X-PUBLISHED-TTL:PT1H
BEGIN:VTIMEZONE
TZID:America/Chicago
BEGIN:DAYLIGHT
TZOFFSETFROM:-0600
TZOFFSETTO:-0500
TZNAME:CDT
DTSTART:20250309T080000
END:DAYLIGHT
BEGIN:STANDARD
TZOFFSETFROM:-0500
TZOFFSETTO:-0600
TZNAME:CST
DTSTART:20251102T070000
END:STANDARD
BEGIN:DAYLIGHT
TZOFFSETFROM:-0600
TZOFFSETTO:-0500
TZNAME:CDT
DTSTART:20260308T080000
END:DAYLIGHT
BEGIN:STANDARD
TZOFFSETFROM:-0500
TZOFFSETTO:-0600
TZNAME:CST
DTSTART:20261101T070000
END:STANDARD
BEGIN:DAYLIGHT
TZOFFSETFROM:-0600
TZOFFSETTO:-0500
TZNAME:CDT
DTSTART:20270314T080000
END:DAYLIGHT
BEGIN:STANDARD
TZOFFSETFROM:-0500
TZOFFSETTO:-0600
TZNAME:CST
DTSTART:20271107T070000
END:STANDARD
END:VTIMEZONE
BEGIN:VEVENT
DTSTART;TZID=America/Chicago:20260120T163000
DTEND;TZID=America/Chicago:20260120T180000
DTSTAMP:20260421T031450
CREATED:20251118T223026Z
LAST-MODIFIED:20251223T185915Z
UID:7841-1768926600-1768932000@ector.lib.tx.us
SUMMARY:Family Craft Night: Winter Trees
DESCRIPTION:Make a wintery picture festuring a winter tree. Decorate the background and the tree anyway you like.  \nCrea una imagen invernal con un árbol de invierno. Decora el fondo y el árbol a tu gusto.
URL:https://ector.lib.tx.us/event/family-craft-night-wintr/
LOCATION:Basement Activity Room
CATEGORIES:Adult,Children,Crafts,Family,Tween
END:VEVENT
BEGIN:VEVENT
DTSTART;TZID=America/Chicago:20260122T170000
DTEND;TZID=America/Chicago:20260122T173000
DTSTAMP:20260421T031450
CREATED:20260113T213701Z
LAST-MODIFIED:20260113T223517Z
UID:7959-1769101200-1769103000@ector.lib.tx.us
SUMMARY:Special Family Storytime: Bubbles
DESCRIPTION:Join the Children’s Librarian and Wagner Noel for a special family storytime all about bubbles!
URL:https://ector.lib.tx.us/event/special-family-storytime-bubbles/
LOCATION:Auditorium
CATEGORIES:Adult,Babies 0 - 2 years old,Children,Family
END:VEVENT
END:VCALENDAR